BEGIN:VCALENDAR
VERSION:2.0
PRODID:-// - ECPv6.15.20//NONSGML v1.0//EN
CALSCALE:GREGORIAN
METHOD:PUBLISH
X-ORIGINAL-URL:https://landmarkforumnews.com
X-WR-CALDESC:Events for 
REFRESH-INTERVAL;VALUE=DURATION:PT1H
X-Robots-Tag:noindex
X-PUBLISHED-TTL:PT1H
BEGIN:VTIMEZONE
TZID:America/New_York
BEGIN:DAYLIGHT
TZOFFSETFROM:-0500
TZOFFSETTO:-0400
TZNAME:EDT
DTSTART:20250309T070000
END:DAYLIGHT
BEGIN:STANDARD
TZOFFSETFROM:-0400
TZOFFSETTO:-0500
TZNAME:EST
DTSTART:20251102T060000
END:STANDARD
BEGIN:DAYLIGHT
TZOFFSETFROM:-0500
TZOFFSETTO:-0400
TZNAME:EDT
DTSTART:20260308T070000
END:DAYLIGHT
BEGIN:STANDARD
TZOFFSETFROM:-0400
TZOFFSETTO:-0500
TZNAME:EST
DTSTART:20261101T060000
END:STANDARD
BEGIN:DAYLIGHT
TZOFFSETFROM:-0500
TZOFFSETTO:-0400
TZNAME:EDT
DTSTART:20270314T070000
END:DAYLIGHT
BEGIN:STANDARD
TZOFFSETFROM:-0400
TZOFFSETTO:-0500
TZNAME:EST
DTSTART:20271107T060000
END:STANDARD
END:VTIMEZONE
BEGIN:VEVENT
DTSTART;TZID=America/New_York:20260507T200000
DTEND;TZID=America/New_York:20260507T211500
DTSTAMP:20260423T025227
CREATED:20260420T215803Z
LAST-MODIFIED:20260422T001904Z
UID:22404-1778184000-1778188500@landmarkforumnews.com
SUMMARY:Zully JF Alvarado - Turning Life’s Challenges into a Platform for Profound Change
DESCRIPTION:LIVE INTERVIEW: \nWe’re joined by Zully JF Alvarado—entrepreneur\, humanitarian\, and longtime advocate for people with disabilities. As the founder of Causes for Change International\, Zully has spent years creating opportunities\, resources\, and a sense of dignity for individuals and families often overlooked. Recognized as a Chicagoan of the Year\, her work has made a meaningful difference both locally and globally. \n(Add this event to your calendar below then click this link to register up to the day of the event.) \nNow\, through her new book and her platform The Z Life\, Zully is sharing her story—one shaped by resilience\, faith\, and a deep commitment to living beyond limitations. Join us as we explore her journey\, the work she’s leading\, and what becomes possible when you choose to be a stand for others. \nThis interview is open to the public. All are welcome! \n 
URL:https://landmarkforumnews.com/event/zully-jf-alvarado-turning-lifes-challenges-into-a-platform-for-profound-change/
ATTACH;FMTTYPE=image/png:https://landmarkforumnews.com/wp-content/uploads/2026/04/Zully-JF-Alvarado-Turning-Lifes-Challenges-into-a-Platform-for-Profound-Change-2-1.png
END:VEVENT
BEGIN:VEVENT
DTSTART;TZID=America/New_York:20260514T103000
DTEND;TZID=America/New_York:20260514T114500
DTSTAMP:20260423T025227
CREATED:20260301T095847Z
LAST-MODIFIED:20260414T162344Z
UID:22205-1778754600-1778759100@landmarkforumnews.com
SUMMARY:Abdallah AlHadidi - Transformation in the Arabic Speaking World
DESCRIPTION:LIVE INTERVIEW: \nWe’re joined by Abdallah Alhadidi\, who has been instrumental in making Landmark’s programs available to the Arabic-speaking world. Through steady leadership and deep care for the people he serves\, Abdallah has helped open the door for thousands to participate in transformational conversations in their own language. \n(Add this event to your calendar below\, then register up to the day of the event.) \nWe’ll talk with Abdallah about what it takes to bring this work across cultures\, the challenges and opportunities of offering Landmark in Arabic\, and what he’s learned about leadership\, service\, and possibility along the way. \nThis interview is open to the public. All are welcome! \n 
URL:https://landmarkforumnews.com/event/abdallah-alhadidi-transformation-in-the-arabic-speaking-world/
ATTACH;FMTTYPE=image/png:https://landmarkforumnews.com/wp-content/uploads/2026/03/Abdallah-Alhadidi-Transformation-in-the-Arabic-Speaking-World-WORDPRESS.png
END:VEVENT
BEGIN:VEVENT
DTSTART;TZID=America/New_York:20260615T200000
DTEND;TZID=America/New_York:20260615T211500
DTSTAMP:20260423T025227
CREATED:20260420T220301Z
LAST-MODIFIED:20260422T003706Z
UID:22440-1781553600-1781558100@landmarkforumnews.com
SUMMARY:Vanessa Stokes- Economic and Community Development That Lasts
DESCRIPTION:LIVE INTERVIEW: \nVanessa Stokes—writer\, community builder\, and founder of The West Side Review. Through her work\, Vanessa is telling the stories of Chicago’s West Side with honesty\, depth\, and pride—shifting the narrative from what’s often missing in mainstream coverage to what’s actually alive\, creative\, and possible. She’s also bringing that vision into the physical world with the upcoming Outwest Café and Art Gallery in Austin\, a space designed to celebrate culture\, creativity\, and connection on the West Side. \n(Add this event to your calendar below then click this link to register up to the day of the event.) \nWhether through writing or building community spaces\, Vanessa is creating platforms where people can see themselves\, their neighborhoods\, and their futures differently. \nJoin us as we talk with Vanessa about storytelling\, ownership of narrative\, and what it means to invest in a community in a way that’s both real and lasting. \nThis interview is open to the public. All are welcome! \n 
URL:https://landmarkforumnews.com/event/vanessa-stokes/
ATTACH;FMTTYPE=image/png:https://landmarkforumnews.com/wp-content/uploads/2026/04/Vanessa-Stokes-Economic-and-Community-Development-That-Lasts.png
END:VEVENT
END:VCALENDAR